BEGIN:VCALENDAR
VERSION:2.0
PRODID:-//Freeland Parish Council//Meeting Calendar//EN
CALSCALE:GREGORIAN
METHOD:PUBLISH
BEGIN:VEVENT
UID:70421-20220101@freelandparishcouncil.gov.uk
DTSTAMP:20260422T083515Z
DTSTART;VALUE=DATE:20220101
DTEND;VALUE=DATE:20220102
SUMMARY:Full Council Meetings &#8211\\; 2022
DESCRIPTION:Full Council Meeting\nView details: https://freelandparishcouncil.gov.uk/meetings/full-council-meetings-2022/
URL:https://freelandparishcouncil.gov.uk/meetings/full-council-meetings-2022/
END:VEVENT
END:VCALENDAR
