BEGIN:VCALENDAR
VERSION:2.0
PRODID:-//Freeland Parish Council//Meeting Calendar//EN
CALSCALE:GREGORIAN
METHOD:PUBLISH
BEGIN:VEVENT
UID:70469-20220524@freelandparishcouncil.gov.uk
DTSTAMP:20260422T083541Z
DTSTART;VALUE=DATE:20220524
DTEND;VALUE=DATE:20220525
SUMMARY:Annual Parish Meeting &#8211\\; 24th May 2022
DESCRIPTION:Annual Meeting\nView details: https://freelandparishcouncil.gov.uk/meetings/annual-parish-meeting-24th-may-2022/
URL:https://freelandparishcouncil.gov.uk/meetings/annual-parish-meeting-24th-may-2022/
END:VEVENT
END:VCALENDAR
