BEGIN:VCALENDAR
VERSION:2.0
PRODID:-//Freeland Parish Council//Meeting Calendar//EN
CALSCALE:GREGORIAN
METHOD:PUBLISH
BEGIN:VEVENT
UID:70755-20240610@freelandparishcouncil.gov.uk
DTSTAMP:20260422T083708Z
DTSTART;VALUE=DATE:20240610
DTEND;VALUE=DATE:20240611
SUMMARY:Full Council meeting- June 2024
DESCRIPTION:Full Council Meeting\nView details: https://freelandparishcouncil.gov.uk/meetings/june-full-council-meeting-2024/
URL:https://freelandparishcouncil.gov.uk/meetings/june-full-council-meeting-2024/
END:VEVENT
END:VCALENDAR
