BEGIN:VCALENDAR
VERSION:2.0
PRODID:-//Freeland Parish Council//Meeting Calendar//EN
CALSCALE:GREGORIAN
METHOD:PUBLISH
BEGIN:VEVENT
UID:70917-20241111@freelandparishcouncil.gov.uk
DTSTAMP:20260422T083639Z
DTSTART;VALUE=DATE:20241111
DTEND;VALUE=DATE:20241112
SUMMARY:November 11th 2024-Full council Meeting
DESCRIPTION:Full Council Meeting\nView details: https://freelandparishcouncil.gov.uk/meetings/november-2024-full-council-meeting/
URL:https://freelandparishcouncil.gov.uk/meetings/november-2024-full-council-meeting/
END:VEVENT
END:VCALENDAR
