BEGIN:VCALENDAR
VERSION:2.0
PRODID:-//Freeland Parish Council//Meeting Calendar//EN
CALSCALE:GREGORIAN
METHOD:PUBLISH
BEGIN:VEVENT
UID:70940-20241209@freelandparishcouncil.gov.uk
DTSTAMP:20260424T100920Z
DTSTART;VALUE=DATE:20241209
DTEND;VALUE=DATE:20241210
SUMMARY:9th December 2024 Full Council Meeting
DESCRIPTION:Full Council Meeting\nView details: https://freelandparishcouncil.gov.uk/meetings/9th-december-2024-full-council-meeting/
URL:https://freelandparishcouncil.gov.uk/meetings/9th-december-2024-full-council-meeting/
END:VEVENT
END:VCALENDAR
