BEGIN:VCALENDAR
VERSION:2.0
PRODID:-//Freeland Parish Council//Meeting Calendar//EN
CALSCALE:GREGORIAN
METHOD:PUBLISH
BEGIN:VEVENT
UID:70966-20250113@freelandparishcouncil.gov.uk
DTSTAMP:20260424T084227Z
DTSTART;VALUE=DATE:20250113
DTEND;VALUE=DATE:20250114
SUMMARY:January 2025 Full Council Meeting
DESCRIPTION:Full Council Meeting\nView details: https://freelandparishcouncil.gov.uk/meetings/january-2025-full-council-meeting/
URL:https://freelandparishcouncil.gov.uk/meetings/january-2025-full-council-meeting/
END:VEVENT
END:VCALENDAR
