BEGIN:VCALENDAR
VERSION:2.0
PRODID:-//Freeland Parish Council//Meeting Calendar//EN
CALSCALE:GREGORIAN
METHOD:PUBLISH
BEGIN:VEVENT
UID:71083-20250428@freelandparishcouncil.gov.uk
DTSTAMP:20260424T120158Z
DTSTART;VALUE=DATE:20250428
DTEND;VALUE=DATE:20250429
SUMMARY:May (April 28th) Full Council Meeting
DESCRIPTION:Full Council Meeting\nView details: https://freelandparishcouncil.gov.uk/meetings/may-april-28th-full-council-meetin/
URL:https://freelandparishcouncil.gov.uk/meetings/may-april-28th-full-council-meetin/
END:VEVENT
END:VCALENDAR
