BEGIN:VCALENDAR
VERSION:2.0
PRODID:-//Freeland Parish Council//Meeting Calendar//EN
CALSCALE:GREGORIAN
METHOD:PUBLISH
BEGIN:VEVENT
UID:71084-20250609@freelandparishcouncil.gov.uk
DTSTAMP:20260424T102642Z
DTSTART;VALUE=DATE:20250609
DTEND;VALUE=DATE:20250610
SUMMARY:June 9th Full Council Meeting
DESCRIPTION:Full Council Meeting\nView details: https://freelandparishcouncil.gov.uk/meetings/june-9th-full-council-meetin/
URL:https://freelandparishcouncil.gov.uk/meetings/june-9th-full-council-meetin/
END:VEVENT
END:VCALENDAR
