BEGIN:VCALENDAR
VERSION:2.0
PRODID:-//Freeland Parish Council//Meeting Calendar//EN
CALSCALE:GREGORIAN
METHOD:PUBLISH
BEGIN:VEVENT
UID:71086-20250714@freelandparishcouncil.gov.uk
DTSTAMP:20260424T084509Z
DTSTART;VALUE=DATE:20250714
DTEND;VALUE=DATE:20250715
SUMMARY:July 14th Full Parish Council Meeting
DESCRIPTION:Full Council Meeting\nView details: https://freelandparishcouncil.gov.uk/meetings/july-14th-full-parish-council-meeting/
URL:https://freelandparishcouncil.gov.uk/meetings/july-14th-full-parish-council-meeting/
END:VEVENT
END:VCALENDAR
