BEGIN:VCALENDAR
VERSION:2.0
PRODID:-//Freeland Parish Council//Meeting Calendar//EN
CALSCALE:GREGORIAN
METHOD:PUBLISH
BEGIN:VEVENT
UID:71402-20250915@freelandparishcouncil.gov.uk
DTSTAMP:20260422T083309Z
DTSTART;VALUE=DATE:20250915
DTEND;VALUE=DATE:20250916
SUMMARY:September 15 full council meeting 2025
DESCRIPTION:Full Council Meeting\nView details: https://freelandparishcouncil.gov.uk/meetings/september-15-full-council-meeting/
URL:https://freelandparishcouncil.gov.uk/meetings/september-15-full-council-meeting/
END:VEVENT
END:VCALENDAR
