BEGIN:VCALENDAR
VERSION:2.0
PRODID:-//Freeland Parish Council//Meeting Calendar//EN
CALSCALE:GREGORIAN
METHOD:PUBLISH
BEGIN:VEVENT
UID:71409-20251013@freelandparishcouncil.gov.uk
DTSTAMP:20260419T130754Z
DTSTART;VALUE=DATE:20251013
DTEND;VALUE=DATE:20251014
SUMMARY:October 13 Full council meeting 2025
DESCRIPTION:Full Council Meeting\nView details: https://freelandparishcouncil.gov.uk/meetings/october-13-full-council-meeting-2025/
URL:https://freelandparishcouncil.gov.uk/meetings/october-13-full-council-meeting-2025/
END:VEVENT
END:VCALENDAR
