BEGIN:VCALENDAR
VERSION:2.0
PRODID:-//Freeland Parish Council//Meeting Calendar//EN
CALSCALE:GREGORIAN
METHOD:PUBLISH
BEGIN:VEVENT
UID:71410-20251110@freelandparishcouncil.gov.uk
DTSTAMP:20260422T083442Z
DTSTART;VALUE=DATE:20251110
DTEND;VALUE=DATE:20251111
SUMMARY:November 10 Full council meeting 2025
DESCRIPTION:Full Council Meeting\nView details: https://freelandparishcouncil.gov.uk/meetings/november-10-full-council-meeting-2025/
URL:https://freelandparishcouncil.gov.uk/meetings/november-10-full-council-meeting-2025/
END:VEVENT
END:VCALENDAR
