BEGIN:VCALENDAR
VERSION:2.0
PRODID:-//Freeland Parish Council//Meeting Calendar//EN
CALSCALE:GREGORIAN
METHOD:PUBLISH
BEGIN:VEVENT
UID:71490-20260720@freelandparishcouncil.gov.uk
DTSTAMP:20260422T083325Z
DTSTART;VALUE=DATE:20260720
DTEND;VALUE=DATE:20260721
SUMMARY:Full Council Meeting- 20 July 2026
DESCRIPTION:Full Council Meeting\nView details: https://freelandparishcouncil.gov.uk/meetings/full-council-meeting-20-july-2026/
URL:https://freelandparishcouncil.gov.uk/meetings/full-council-meeting-20-july-2026/
END:VEVENT
END:VCALENDAR
