BEGIN:VCALENDAR
VERSION:2.0
PRODID:-//Freeland Parish Council//Meeting Calendar//EN
CALSCALE:GREGORIAN
METHOD:PUBLISH
BEGIN:VEVENT
UID:71492-20261012@freelandparishcouncil.gov.uk
DTSTAMP:20260420T121635Z
DTSTART;VALUE=DATE:20261012
DTEND;VALUE=DATE:20261013
SUMMARY:Full Council Meeting- 12 October 2026
DESCRIPTION:Full Council Meeting\nView details: https://freelandparishcouncil.gov.uk/meetings/full-council-meeting-12-october-2026/
URL:https://freelandparishcouncil.gov.uk/meetings/full-council-meeting-12-october-2026/
END:VEVENT
END:VCALENDAR
