BEGIN:VCALENDAR
VERSION:2.0
PRODID:-//Freeland Parish Council//Meeting Calendar//EN
CALSCALE:GREGORIAN
METHOD:PUBLISH
BEGIN:VEVENT
UID:71494-20261214@freelandparishcouncil.gov.uk
DTSTAMP:20260422T085547Z
DTSTART;VALUE=DATE:20261214
DTEND;VALUE=DATE:20261215
SUMMARY:Full Council Meeting- 14 December 2026
DESCRIPTION:Full Council Meeting\nView details: https://freelandparishcouncil.gov.uk/meetings/full-council-meeting-14-december-2026/
URL:https://freelandparishcouncil.gov.uk/meetings/full-council-meeting-14-december-2026/
END:VEVENT
END:VCALENDAR
